Workbook
Name Print_Area: Inicial!$A$1:$J$82

Sheet Inicial
C2: Instituto Tecnológico de Aeronáutica
C3: Projeto: XXX
C4: Coordenador Responsável: XXX
C7: Ressarcimento de Custos Institucionais de Projetos (RCIP)
C10: Parâmetros do projeto, a serem preenchidos pelo Coordenador conforme o Plano de Trabalho aprovado.
C12: item | D12: Valor | E12: Observações
C13: m² do laboratório | D13: xx | E13: Nome do Laboratório
C14: N° pessoas no projeto | D14: xx | E14: Equipe envolvida no projeto
C15: Data de início do período | D15: xx
C16: Data de final do projeto | D16: xx | E16: Data ao lado para referência de cálculo do período contábil. Projeto se encerra em 14/12/2023
C17: Pessoal técnico envolvidos no projeto (excluído bolsistas)
C18: Pesquisador/Técnico 1 | D18: 0
C19: Pesquisador/Técnico 2 | D19: ='Recursos Humanos Diretos'!G6 -> 2 | E19: Tempo dedicado ao projeto em horas semanais
C20: Pesquisador/Técnico 3 | D20: ='Recursos Humanos Diretos'!G7 -> 2 | E20: Tempo dedicado ao projeto em horas semanais
C21: Pesquisador/Técnico 4 | D21: ='Recursos Humanos Diretos'!G8 -> 4 | E21: Tempo dedicado ao projeto em horas semanais
C22: Pesquisador/Técnico 5 | D22: ='Recursos Humanos Diretos'!G9 -> 2 | E22: Tempo dedicado ao projeto em horas semanais
C23: Pesquisador/Técnico 6 | D23: ='Recursos Humanos Diretos'!G10 -> 2 | E23: Tempo dedicado ao projeto em horas semanais
C24: Pesquisador/Técnico 7 | D24: ='Recursos Humanos Diretos'!G11 -> 2 | E24: Tempo dedicado ao projeto em horas semanais
C25: Pesquisador/Técnico 8 | D25: ='Recursos Humanos Diretos'!G12 -> 4 | E25: Tempo dedicado ao projeto em horas semanais
C29: Lista de equipamentos utilizados no projeto | D29: Nº de horas de uso por dia | E29: Consumo de energia (kW) | F29: Valor da Nota Fiscal | G29: Data da Acquisição | H29: Descrição
C30: Equipamento 1 | D30: =Depreciação!L5 -> 1 | E30: 1.5 | F30: =Depreciação!F5 -> 49990 | G30: =Depreciação!D5 -> 43752 | H30: Equipamento de metrologia
C31: Equipamento 2 | D31: =Depreciação!L6 -> 1 | E31: 0.5 | F31: =Depreciação!F6 -> 177948.32 | G31: =Depreciação!D6 -> 42138 | H31: Equipamento de metrologia
C32: Equipamento 3 | D32: =Depreciação!L7 -> 0.5 | E32: 1.5 | F32: =Depreciação!F7 -> 368529.73 | G32: =Depreciação!D7 -> 42544 | H32: Equipamento de metrologia
C33: Equipamento 4 | D33: =Depreciação!L8 -> 8 | E33: 1.5 | F33: =Depreciação!F8 -> 12817.68 | G33: =Depreciação!D8 -> 42951 | H33: Computadores e acessórios usados pela equipe executora
C34: Equipamento 5 | D34: =Depreciação!L9 -> 8 | E34: 1.5 | F34: =Depreciação!F9 -> 2712.74 | G34: =Depreciação!D9 -> 42978 | H34: Computadores e acessórios usados pela equipe executora
C35: Equipamento 6 | D35: =Depreciação!L10 -> 0.1 | E35: 1.5 | F35: =Depreciação!F10 -> 295000 | G35: =Depreciação!D10 -> 41477 | H35: Computadores e acessórios usados pela equipe executora
C45: Parâmetros do ITA, previamente preenchidos pelos órgãos competentes do ITA/DCTA de acordo com documentação comprobatória indicada
C47: item | D47: Valor | E47: Fonte da informação
C48: Área total do ITA em m² | D48: 35095.52 | E48: Anexo II do Edital 124/2020 (contrato de limpeza)
C49: Despesa mensal com vigilância no campus | D49: =Vigilância!F9 -> 13566 | E49: Estimativa de gasto diário baseado na escala de serviço de 12 de março de 2018 e tabela de soldo de militares
C50: Despesa mensal com serviço de portaria do campus | D50: =Portaria!F7 -> 43840 | E50: Estimativa de gasto diário baseado na escala de serviço de 12 de março de 2018 e tabela de soldo de militares
C51: Despesa anual com serviço de limpeza do ITA | D51: 194427.39 | E51: Publicação DOU de 09 de junho de 2021, nº 106, Seção 3 - Extrato 14/2021 -gastos com limpeza no Campus referente ao ano 2021
C52: Valor do metro cúbico de água e esgoto | D52: 14 | E52: "DELIBERAÇÃO ARSESP No 859, de 10 de abril de 2019" Unidade de Negócio RV, tarifa de água R$ 7,76 e tarifa de esgoto R$ 6,25 por metro cúbico
C53: Valor do kWh | D53: 0.37861 | E53: TABELA DE TARIFAS EDP SP - "Resolução homologatória No 2.629 - vigente a partir de 23/10/2019" tarifa de energia B3 demais classes - bandeira verde R$ 0,26124 por kWh
C54: Despesa total anual com manutenção da infraestrutura/equipamentos no Campus ITA | D54: 7034527 | E54: Notas de Empenho/Credito de 2020 com gastos com manutenção (consulta Portal da Transparência 07/07/2021)
C55: Despesa anual do setor de documentação | D55: =519676.62/23 -> 22594.636 | E55: Detalhamento enviado pela IA-DOC, rateado por área de concentração dos PPGs
C57: Consolidação
C59: item | D59: Valor | E59: Método de cálculo
C60: I - Recursos Humanos Diretos | D60: ='Recursos Humanos Diretos'!I13 -> #VALUE! | E60: tempo de dedicação ao projeto
C61: II - Recursos Humanos Indiretos | D61: ='Recursos Humanos Indiretos'!I64 -> #VALUE! | E61: tempo de dedicação ao projeto
...

Sheet Recursos Humanos Diretos
B2: Recursos Humanos Diretos
D3: A | E3: B | F3: C | G3: D | H3: E
B4: Nome | C4: CPF | D4: Custo mensal | E4: Custo annual (A*40/3) | F4: Custo hora (B/(40*52)) | G4: Tempo em horas semanais | H4: Total horas no período | I4: Custo para o Projeto | J4: Comprovação
B5: =Inicial!C18 -> Pesquisador/Técnico 1 | C5: XXX.XXX.XXX-XX | D5: 10097 | E5: =D5*40/3 -> 134626.67 | F5: =E5/(52*40) -> 64.724359 | G5: --- | H5: =Inicial!D18 -> 0 | I5: 0 | J5: http://www.portaltransparencia.gov.br/servidores/85709236
B6: =Inicial!C19 -> Pesquisador/Técnico 2 | C6: XXX.XXX.XXX-XX | D6: 6734.38 | E6: =D6*40/3 -> 89791.733 | F6: =E6/(52*40) -> 43.169103 | G6: 2 | H6: =(Inicial!$D$16-Inicial!$D$15)/7*G6 -> #VALUE! | I6: =F6*H6 -> #VALUE! | J6: http://www.portaltransparencia.gov.br/servidores/75416912
B7: =Inicial!C20 -> Pesquisador/Técnico 3 | C7: XXX.XXX.XXX-XX | D7: 6734.38 | E7: =D7*40/3 -> 89791.733 | F7: =E7/(52*40) -> 43.169103 | G7: 2 | H7: =(Inicial!$D$16-Inicial!$D$15)/7*G7 -> #VALUE! | I7: =F7*H7 -> #VALUE! | J7: http://www.portaltransparencia.gov.br/servidores/80624131
B8: =Inicial!C21 -> Pesquisador/Técnico 4 | C8: XXX.XXX.XXX-XX | D8: 20530.01 | E8: =D8*40/3 -> 273733.47 | F8: =E8/(52*40) -> 131.60263 | G8: 4 | H8: =(Inicial!$D$16-Inicial!$D$15)/7*G8 -> #VALUE! | I8: =F8*H8 -> #VALUE! | J8: http://www.portaltransparencia.gov.br/servidores/81215099
B9: =Inicial!C22 -> Pesquisador/Técnico 5 | C9: XXX.XXX.XXX-XX | D9: 10097 | E9: =D9*40/3 -> 134626.67 | F9: =E9/(52*40) -> 64.724359 | G9: 2 | H9: =(Inicial!$D$16-Inicial!$D$15)/7*G9 -> #VALUE! | I9: =F9*H9 -> #VALUE! | J9: http://www.portaltransparencia.gov.br/servidores/76616339
B10: =Inicial!C23 -> Pesquisador/Técnico 6 | C10: XXX.XXX.XXX-XX | D10: 8753.56 | E10: =D10*40/3 -> 116714.13 | F10: =E10/(52*40) -> 56.112564 | G10: 2 | H10: =(Inicial!$D$16-Inicial!$D$15)/7*G10 -> #VALUE! | I10: =F10*H10 -> #VALUE! | J10: http://www.portaltransparencia.gov.br/servidores/83316133
B11: =Inicial!C24 -> Pesquisador/Técnico 7 | C11: XXX.XXX.XXX-XX | D11: 10435.46 | E11: =D11*40/3 -> 139139.47 | F11: =E11/(52*40) -> 66.893974 | G11: 2 | H11: =(Inicial!$D$16-Inicial!$D$15)/7*G11 -> #VALUE! | I11: =F11*H11 -> #VALUE! | J11: http://www.portaltransparencia.gov.br/servidores/81417864
B12: =Inicial!C25 -> Pesquisador/Técnico 8 | C12: XXX.XXX.XXX-XX | D12: 19639.15 | E12: =D12*40/3 -> 261855.33 | F12: =E12/(52*40) -> 125.89199 | G12: 4 | H12: =(Inicial!$D$16-Inicial!$D$15)/7*G12 -> #VALUE! | I12: =F12*H12 -> #VALUE! | J12: http://www.portaltransparencia.gov.br/servidores/76921127
I13: =SUM(I5:I12) -> #VALUE!
B15: Obs1: Custo anual contento 13º salário e 1/3 de adicional de férias
B16: Obs2: Valores coletados no site transparência.gov.br - consulta em 06/07/2021

Sheet Recursos Humanos Indiretos
B2: Recursos Humanos Indiretos
D3: A | E3: B | F3: C | G3: D | H3: E | I3: B*D*E
C4: Nome | D4: Custo mensal | E4: Custo anual A*(40/3) | F4: Tempoem horas semanais | G4: Proporção de tempo dedicado ao projeto (C/40) | H4: Duração do projeto em anos | I4: Custo para o Projeto | J4: Comprovação
B5: Chefia Divisão e Lab | E5: =D5*40/3 -> 0 | F5: 0 | G5: =F5/40 -> 0 | H5: =(Inicial!$D$16-Inicial!$D$15)/365 -> #VALUE! | I5: =E5*G5*H5 -> #VALUE!
C6: =Inicial!C22 -> Pesquisador/Técnico 5 | D6: 10097 | E6: =D6*40/3 -> 134626.67 | F6: 1 | G6: =F6/40 -> 0.025 | H6: =(Inicial!$D$16-Inicial!$D$15)/365 -> #VALUE! | I6: =E6*G6*H6 -> #VALUE! | J6: http://www.portaltransparencia.gov.br/servidores/76616339
B7: Reitoria | C7: Pesquisador | D7: 28614.48 | E7: =D7*40/3 -> 381526.4 | F7: 0.1 | G7: =F7/40 -> 0.0025 | H7: =(Inicial!$D$16-Inicial!$D$15)/365 -> #VALUE! | I7: =E7*G7*H7 -> #VALUE! | J7: http://www.portaltransparencia.gov.br/servidores/84316814
B8: Pessoal Técnologia da Informação e Comunicação Social | C8: TI 1 | D8: 20479.76 | E8: =D8*40/3 -> 273063.47 | F8: 0.2 | G8: =F8/40 -> 0.005 | H8: =(Inicial!$D$16-Inicial!$D$15)/365 -> #VALUE! | I8: =E8*G8*H8 -> #VALUE! | J8: http://www.portaltransparencia.gov.br/servidores/73617244
C9: TI 2 | D9: 14926.67 | E9: =D9*40/3 -> 199022.27 | F9: 0.2 | G9: =F9/40 -> 0.005 | H9: =(Inicial!$D$16-Inicial!$D$15)/365 -> #VALUE! | I9: =E9*G9*H9 -> #VALUE! | J9: http://www.portaltransparencia.gov.br/servidores/84211743
C10: TI 3 | D10: 13775.27 | E10: =D10*40/3 -> 183670.27 | F10: 0.2 | G10: =F10/40 -> 0.005 | H10: =(Inicial!$D$16-Inicial!$D$15)/365 -> #VALUE! | I10: =E10*G10*H10 -> #VALUE! | J10: http://www.portaltransparencia.gov.br/servidores/75508865
C11: TI 4 | D11: 13640.66 | E11: =D11*40/3 -> 181875.47 | F11: 0.2 | G11: =F11/40 -> 0.005 | H11: =(Inicial!$D$16-Inicial!$D$15)/365 -> #VALUE! | I11: =E11*G11*H11 -> #VALUE! | J11: http://www.portaltransparencia.gov.br/servidores/79520772
C12: TI5 | D12: 7011.9 | E12: =D12*40/3 -> 93492 | F12: 0.2 | G12: =F12/40 -> 0.005 | H12: =(Inicial!$D$16-Inicial!$D$15)/365 -> #VALUE! | I12: =E12*G12*H12 -> #VALUE! | J12: http://www.portaltransparencia.gov.br/servidores/85525300
C13: TI 6 | D13: 7011.9 | E13: =D13*40/3 -> 93492 | F13: 0.2 | G13: =F13/40 -> 0.005 | H13: =(Inicial!$D$16-Inicial!$D$15)/365 -> #VALUE! | I13: =E13*G13*H13 -> #VALUE! | J13: http://www.portaltransparencia.gov.br/servidores/74313669
C14: TI7 | D14: 7011.9 | E14: =D14*40/3 -> 93492 | F14: 0.2 | G14: =F14/40 -> 0.005 | H14: =(Inicial!$D$16-Inicial!$D$15)/365 -> #VALUE! | I14: =E14*G14*H14 -> #VALUE! | J14: http://www.portaltransparencia.gov.br/servidores/79919461
C15: TI8 | D15: 7011.9 | E15: =D15*40/3 -> 93492 | F15: 0.2 | G15: =F15/40 -> 0.005 | H15: =(Inicial!$D$16-Inicial!$D$15)/365 -> #VALUE! | I15: =E15*G15*H15 -> #VALUE! | J15: http://www.portaltransparencia.gov.br/servidores/85926789
C16: TI 9 | D16: 9566.64 | E16: =D16*40/3 -> 127555.2 | F16: 0.2 | G16: =F16/40 -> 0.005 | H16: =(Inicial!$D$16-Inicial!$D$15)/365 -> #VALUE! | I16: =E16*G16*H16 -> #VALUE! | J16: http://portaltransparencia.gov.br/servidores/74624778
C17: TI 10 | D17: 8753.56 | E17: =D17*40/3 -> 116714.13 | F17: 0.2 | G17: =F17/40 -> 0.005 | H17: =(Inicial!$D$16-Inicial!$D$15)/365 -> #VALUE! | I17: =E17*G17*H17 -> #VALUE! | J17: http://www.portaltransparencia.gov.br/servidores/82123059
C18: TI 11 | D18: 8753.56 | E18: =D18*40/3 -> 116714.13 | F18: 0.2 | G18: =F18/40 -> 0.005 | H18: =(Inicial!$D$16-Inicial!$D$15)/365 -> #VALUE! | I18: =E18*G18*H18 -> #VALUE! | J18: http://www.portaltransparencia.gov.br/servidores/77906879
C19: TI 12 | D19: 6734.38 | E19: =D19*40/3 -> 89791.733 | F19: 0.2 | G19: =F19/40 -> 0.005 | H19: =(Inicial!$D$16-Inicial!$D$15)/365 -> #VALUE! | I19: =E19*G19*H19 -> #VALUE! | J19: http://www.portaltransparencia.gov.br/servidores/73408599
C20: TI 13 | D20: 6734.38 | E20: =D20*40/3 -> 89791.733 | F20: 0.2 | G20: =F20/40 -> 0.005 | H20: =(Inicial!$D$16-Inicial!$D$15)/365 -> #VALUE! | I20: =E20*G20*H20 -> #VALUE! | J20: http://www.portaltransparencia.gov.br/servidores/82612811
C21: TI 14 | D21: 6523.38 | E21: =D21*40/3 -> 86978.4 | F21: 0.2 | G21: =F21/40 -> 0.005 | H21: =(Inicial!$D$16-Inicial!$D$15)/365 -> #VALUE! | I21: =E21*G21*H21 -> #VALUE! | J21: http://www.portaltransparencia.gov.br/servidores/84607096
B22: Pessoal Divisão de Projetos e Pro-reitoria IPR | C22: IPR 1 | D22: 24955.7 | E22: =D22*40/3 -> 332742.67 | F22: 0.2 | G22: 0 | H22: =(Inicial!$D$16-Inicial!$D$15)/365 -> #VALUE! | I22: =E22*G22*H22 -> #VALUE! | J22: http://www.portaltransparencia.gov.br/servidores/75913200
C23: IPR 2 | D23: 11072.51 | E23: =D23*40/3 -> 147633.47 | F23: 0 | G23: =F23/40 -> 0 | H23: =(Inicial!$D$16-Inicial!$D$15)/365 -> #VALUE! | I23: =E23*G23*H23 -> #VALUE! | J23: http://www.portaltransparencia.gov.br/servidores/76921127
C24: IPR 3 | D24: 1608.4 | E24: =D24*40/3 -> 21445.333 | F24: 0 | G24: =F24/40 -> 0 | H24: =(Inicial!$D$16-Inicial!$D$15)/365 -> #VALUE! | I24: =E24*G24*H24 -> #VALUE! | J24: http://www.portaltransparencia.gov.br/servidores/84109155
C25: IPR 4 | D25: 6734.38 | E25: =D25*40/3 -> 89791.733 | F25: 0.2 | G25: =F25/40 -> 0.005 | H25: =(Inicial!$D$16-Inicial!$D$15)/365 -> #VALUE! | I25: =E25*G25*H25 -> #VALUE! | J25: http://www.portaltransparencia.gov.br/servidores/79322255
C26: IPR 5 | D26: 15006.96 | E26: =D26*40/3 -> 200092.8 | F26: 0.2 | G26: =F26/40 -> 0.005 | H26: =(Inicial!$D$16-Inicial!$D$15)/365 -> #VALUE! | I26: =E26*G26*H26 -> #VALUE! | J26: http://www.portaltransparencia.gov.br/servidores/73219217
C27: IPR 6 | D27: 14234.83 | E27: =D27*40/3 -> 189797.73 | F27: 0.2 | G27: =F27/40 -> 0.005 | H27: =(Inicial!$D$16-Inicial!$D$15)/365 -> #VALUE! | I27: =E27*G27*H27 -> #VALUE! | J27: http://www.portaltransparencia.gov.br/servidores/77312342
B28: Escritório de Projetos | C28: EP 1 | D28: 21712.5 | E28: =D28*40/3 -> 289500 | F28: 0.2 | G28: =F28/40 -> 0.005 | H28: =(Inicial!$D$16-Inicial!$D$15)/365 -> #VALUE! | I28: =E28*G28*H28 -> #VALUE! | J28: http://www.portaltransparencia.gov.br/servidores/74817228
C29: EP 2 | D29: 23694.93 | E29: =D29*40/3 -> 315932.4 | F29: 0.2 | G29: =F29/40 -> 0.005 | H29: =(Inicial!$D$16-Inicial!$D$15)/365 -> #VALUE! | I29: =E29*G29*H29 -> #VALUE! | J29: http://www.portaltransparencia.gov.br/servidores/72017577
C30: EP 3 | D30: 7011.9 | E30: =D30*40/3 -> 93492 | F30: 0.2 | G30: =F30/40 -> 0.005 | H30: =(Inicial!$D$16-Inicial!$D$15)/365 -> #VALUE! | I30: =E30*G30*H30 -> #VALUE! | J30: http://www.portaltransparencia.gov.br/servidores/75213675
C31: EP 4 | D31: 3625.26 | E31: =D31*40/3 -> 48336.8 | F31: 0.2 | G31: =F31/40 -> 0.005 | H31: =(Inicial!$D$16-Inicial!$D$15)/365 -> #VALUE! | I31: =E31*G31*H31 -> #VALUE! | J31: http://www.portaltransparencia.gov.br/servidores/78620264
C32: EP 5 | D32: 5393.25 | E32: =D32*40/3 -> 71910 | F32: 0.2 | G32: =F32/40 -> 0.005 | H32: =(Inicial!$D$16-Inicial!$D$15)/365 -> #VALUE! | I32: =E32*G32*H32 -> #VALUE! | J32: http://www.portaltransparencia.gov.br/servidores/83726271
C33: EP 6 | D33: 5393.25 | E33: =D33*40/3 -> 71910 | F33: 0.2 | G33: =F33/40 -> 0.005 | H33: =(Inicial!$D$16-Inicial!$D$15)/365 -> #VALUE! | I33: =E33*G33*H33 -> #VALUE! | J33: http://www.portaltransparencia.gov.br/servidores/83312055
C34: EP 7 | D34: 6523.38 | E34: =D34*40/3 -> 86978.4 | F34: 0.2 | G34: =F34/40 -> 0.005 | H34: =(Inicial!$D$16-Inicial!$D$15)/365 -> #VALUE! | I34: =E34*G34*H34 -> #VALUE! | J34: http://www.portaltransparencia.gov.br/servidores/85922740
B35: Pessoal Técnico - Biblioteca e Acervo Bibliográfico | C35: BIB 1 | D35: 14576.4 | E35: =D35*40/3 -> 194352 | F35: 0.2 | G35: =F35/40 -> 0.005 | H35: =(Inicial!$D$16-Inicial!$D$15)/365 -> #VALUE! | I35: =E35*G35*H35 -> #VALUE! | J35: http://www.portaltransparencia.gov.br/servidores/74217550
C36: BIB 2 | D36: 3128.95 | E36: =D36*40/3 -> 41719.333 | F36: 0.2 | G36: =F36/40 -> 0.005 | H36: =(Inicial!$D$16-Inicial!$D$15)/365 -> #VALUE! | I36: =E36*G36*H36 -> #VALUE! | J36: http://www.portaltransparencia.gov.br/servidores/83722893
C37: BIB 3 | D37: 6734.38 | E37: =D37*40/3 -> 89791.733 | F37: 0.2 | G37: =F37/40 -> 0.005 | H37: =(Inicial!$D$16-Inicial!$D$15)/365 -> #VALUE! | I37: =E37*G37*H37 -> #VALUE! | J37: http://www.portaltransparencia.gov.br/servidores/77013932
C38: BIB 4 | D38: 9267.08 | E38: =D38*40/3 -> 123561.07 | F38: 0.2 | G38: =F38/40 -> 0.005 | H38: =(Inicial!$D$16-Inicial!$D$15)/365 -> #VALUE! | I38: =E38*G38*H38 -> #VALUE! | J38: http://www.portaltransparencia.gov.br/servidores/75815249
C39: BIB 5 | D39: 8026.23 | E39: =D39*40/3 -> 107016.4 | F39: 0.2 | G39: =F39/40 -> 0.005 | H39: =(Inicial!$D$16-Inicial!$D$15)/365 -> #VALUE! | I39: =E39*G39*H39 -> #VALUE! | J39: http://www.portaltransparencia.gov.br/servidores/78625632
C40: BIB 6 | D40: 3128.95 | E40: =D40*40/3 -> 41719.333 | F40: 0.2 | G40: =F40/40 -> 0.005 | H40: =(Inicial!$D$16-Inicial!$D$15)/365 -> #VALUE! | I40: =E40*G40*H40 -> #VALUE! | J40: http://www.portaltransparencia.gov.br/servidores/83818324
C41: BIB 7 | D41: 12532.4 | E41: =D41*40/3 -> 167098.67 | F41: 0.2 | G41: =F41/40 -> 0.005 | H41: =(Inicial!$D$16-Inicial!$D$15)/365 -> #VALUE! | I41: =E41*G41*H41 -> #VALUE! | J41: http://www.portaltransparencia.gov.br/servidores/83216997
...

Sheet Depreciação
B2: Depreciação
D3: A | E3: B | F3: C | G3: D | H3: E | I3: F | J3: G | K3: H | L3: I | M3: J
B4: Nome | C4: Nota Fiscal | D4: Data de emissão da NF | E4: Depreciação até | F4: Preço de aquisição do equipamento/ software instalado (R$) | G4: Indice de correção IGP - DI (BACEN) | H4: Preço de aquisição do equipamento atualizado pelo IGP-DI (R$) (B*C) | I4: Taxa anual de depreciação (licenças de 5 anos) (PCs segundo a IN RFB nº4, de 30 de janeiro de 1985) | J4: Depreciação Anual (R$) (D*E) | K4: Anos de utilização do equipamento durante o projeto | L4: Horas de uso por dia | M4: Depreciação acumulada ao final do projeto (F*G*K/40)
B5: Rugosímetro Portátil Surtronic S128 com acessórios | C5: 2352 | D5: 43752 | E5: =D5+365*10 -> 47402 | F5: 49990 | G5: 1.6071374 | H5: =F5*G5 -> 80340.799 | I5: 0.1 | J5: =H5*I5 -> 8034.0799 | K5: =(Inicial!$D$16-Inicial!$D$15)/365 -> #VALUE! | L5: 1 | M5: =J5*K5*L5/8 -> #VALUE!
B6: Microdurômetro Universal Mod. Durscan 50 | C6: 327 | D6: 42138 | E6: =D6+365*10 -> 45788 | F6: 177948.32 | G6: 1.6071374 | H6: =F6*G6 -> 285987.4 | I6: 0.1 | J6: =H6*I6 -> 28598.74 | K6: =(Inicial!$D$16-Inicial!$D$15)/365 -> #VALUE! | L6: 1 | M6: =J6*K6*L6/8 -> #VALUE!
B7: LASER TRACKER AT960 + SCANNER PARA LASER TRACKER + KIT DE ACESSÓRIOS | C7: 388 E INVOICE BR 900781440 | D7: 42544 | E7: =D7+365*10 -> 46194 | F7: 368529.73 | G7: 1.6590773 | H7: =F7*G7 -> 611419.31 | I7: 0.1 | J7: =H7*I7 -> 61141.931 | K7: =(Inicial!$D$16-Inicial!$D$15)/365 -> #VALUE! | L7: 0.5 | M7: =J7*K7*L7/8 -> #VALUE!
B8: SWITCH WS-C2960-X-48TD-L + ANTENAS - AIR-ANT2524DW-R | C8: 156 | D8: 42951 | E8: =D8+365*5 -> 44776 | F8: 12817.68 | G8: 1.6628005 | H8: =F8*G8 -> 21313.245 | I8: 0.2 | J8: 0 | K8: =(Inicial!$D$16-Inicial!$D$15)/365 -> #VALUE! | L8: 8 | M8: =J8*K8*L8/8 -> #VALUE!
B9: NOBREAK APC BZ2200BI-BR | C9: 52268 | D9: 42978 | E9: =D9+365*5 -> 44803 | F9: 2712.74 | G9: 1.6628005 | H9: =F9*G9 -> 4510.7454 | I9: 0.2 | J9: 0 | K9: =(Inicial!$D$16-Inicial!$D$15)/365 -> #VALUE! | L9: 8 | M9: =J9*K9*L9/8 -> #VALUE!
B10: Microscópio eletrônico por varredura, Cs 3200 Camscan - Oxford | D10: 41477 | E10: =D10+365*10 -> 45127 | F10: 295000 | G10: 1.66 | H10: =F10*G10 -> 489700 | I10: 0.1 | J10: =H10*I10 -> 48970 | K10: =(Inicial!$D$16-Inicial!$D$15)/365 -> #VALUE! | L10: 0.1 | M10: 0
B22: Total do projeto | M22: =SUM(M5:M21) -> #VALUE!
B24: Obs1: Taxa anual de depreciação de equipamento usualmente é 20% (equipamentos de informática e sw) ou 10% (outros equipamentos)
B25: Obs2: As notas fiscais/empenho ficarão depositadas na pasta do projeto da IPR-PDI

Sheet Manutenção acervo bib
B2: Manutenção de Acervo Bibliográfico
B3: A | D3: B
B4: Despesa do setor de documentação | C4: Número de áreas de concentração envolvidas | D4: Duração de projeto em anos | E4: Rateio (A*B)
B5: =Inicial!D55 -> 22594.636 | C5: 2 | D5: =(Inicial!D16-Inicial!D15)/365 -> #VALUE! | E5: =B5*D5*C5 -> #VALUE!
B7: Obs1: Depesas são rateadas por área de concentração
B8: Obs2: Comprovantes de despesas ficam disponíveis na IA-DOC

Sheet Manutenção infraestrutura
B2: Manutenção da Infraestrutura/Equipamentos
B3: A | C3: B | D3: C | E3: D
B4: Despesa total do ITA com manutenção da infraestrutura | C4: m² do laboratório | D4: Duração de projeto em anos | E4: Área total do ITA em m² | F4: Rateio (A*B*C/D)
B5: =Inicial!D54 -> 7034527 | C5: =Inicial!D13 -> xx | D5: =(Inicial!D16-Inicial!D15)/365 -> #VALUE! | E5: =Inicial!D48 -> 35095.52 | F5: =B5*C5*D5/E5 -> #VALUE!
B7: Obs1: Notas de Empenho estão depositadas na IPR-PDI

Sheet Energia Eletrica
B2: Energia Elétrica
B3: Equipamentos exclusivos do laboratório | G3: =G28 -> #VALUE!
B4: Equipamentos de TI que atendem todo o ITA | G4: =I36 -> #VALUE!
B5: Total | G5: =G3+G4 -> #VALUE!
B7: Equipamentos exclusivos do Laboratório
C8: A | D8: B | E8: C | F8: D
B9: Equipamento/Lampada | C9: Consumo de energia do equipamento | D9: Nº de horas de utilização por dia | E9: Nº de dias do projeto | F9: Valor do kWh | G9: Rateio (A*B*C*D)
B10: =Inicial!C30 -> Equipamento 1 | C10: =Inicial!E30 -> 1.5 | D10: =Inicial!D30 -> 1 | E10: =Inicial!$D$16-Inicial!$D$15 -> #VALUE! | F10: 0.26124 | G10: =C10*D10*E10*F10 -> #VALUE!
B11: =Inicial!C31 -> Equipamento 2 | C11: =Inicial!E31 -> 0.5 | D11: =Inicial!D31 -> 1 | E11: =Inicial!$D$16-Inicial!$D$15 -> #VALUE! | F11: 0.26124 | G11: =C11*D11*E11*F11 -> #VALUE!
B12: =Inicial!C32 -> Equipamento 3 | C12: =Inicial!E32 -> 1.5 | D12: =Inicial!D32 -> 0.5 | E12: =Inicial!$D$16-Inicial!$D$15 -> #VALUE! | F12: 0.26124 | G12: =C12*D12*E12*F12 -> #VALUE!
B13: =Inicial!C33 -> Equipamento 4 | C13: =Inicial!E33 -> 1.5 | D13: =Inicial!D33 -> 8 | E13: =Inicial!$D$16-Inicial!$D$15 -> #VALUE! | F13: 0.26124 | G13: =C13*D13*E13*F13 -> #VALUE!
B14: =Inicial!C34 -> Equipamento 5 | C14: =Inicial!E34 -> 1.5 | D14: =Inicial!D34 -> 8 | E14: =Inicial!$D$16-Inicial!$D$15 -> #VALUE! | F14: 0.26124 | G14: =C14*D14*E14*F14 -> #VALUE!
B15: =Inicial!C35 -> Equipamento 6 | C15: =Inicial!E35 -> 1.5 | D15: =Inicial!D35 -> 0.1 | E15: =Inicial!$D$16-Inicial!$D$15 -> #VALUE! | F15: 0.26124 | G15: =C15*D15*E15*F15 -> #VALUE!
B28: Total de Equipamentos de uso exclusivo do Laboratório | G28: =SUM(G10:G27) -> #VALUE!
B30: Equipamentos de TI que atendem todo o ITA
C31: A | D31: B | E31: C | F31: D | G31: E | H31: F
B32: Equipamento | C32: Consumo de energia do equipamento em KiloWatts | D32: Nº de horas de utilização por dia | E32: m² do laboratório | F32: Área total do ITA em m² | G32: Nº de dias do projeto | H32: Valor do kWh | I32: Rateio (A*B*C*E*F/D)
B33: No-Break | C33: 24.3 | D33: 24 | E33: =Inicial!$D$13 -> xx | F33: =Inicial!$D$48 -> 35095.52 | G33: =Inicial!$D$16-Inicial!$D$15 -> #VALUE! | H33: =Inicial!$D$53 -> 0.37861 | I33: =C33*D33*E33*G33*H33/F33 -> #VALUE!
B34: Ar condicionado | C34: 15 | D34: 24 | E34: =Inicial!$D$13 -> xx | F34: =Inicial!$D$48 -> 35095.52 | G34: =Inicial!$D$16-Inicial!$D$15 -> #VALUE! | H34: =Inicial!$D$53 -> 0.37861 | I34: =C34*D34*E34*G34*H34/F34 -> #VALUE!
B35: Servidores + Switches | C35: 66.676 | D35: 24 | E35: =Inicial!$D$13 -> xx | F35: =Inicial!$D$48 -> 35095.52 | G35: =Inicial!$D$16-Inicial!$D$15 -> #VALUE! | H35: =Inicial!$D$53 -> 0.37861 | I35: =C35*D35*E35*G35*H35/F35 -> #VALUE!
B36: Total de Equipamentos de TI que atendem todo o ITA | I36: =SUM(I33:I35) -> #VALUE!
B38: Obs1: Valores de tarifa conforme TABELA DE TARIFAS EDP SP - "Resolução homologatória No 2.790 - vigente a partir de 22/10/2019" - Modalidade tarifária Verde - Grupo A - bandeira verde R$ 0,37861

Sheet Água e Esgoto
B2: Água
B3: A | C3: B | D3: C | E3: D
B4: N° pessoas do projeto | C4: m3 por pessoa por dia | D4: Nº de dias do projeto | E4: Valor do metro cúbico | F4: Rateio (A*B*C*D)
B5: =Inicial!D14 -> xx | C5: 0.05 | D5: =Inicial!$D$16-Inicial!$D$15 -> #VALUE! | E5: 26.18 | F5: =B5*C5*D5*E5 -> #VALUE!
B7: Obs1: Valores de tarifa conforme "DELIBERAÇÃO ARSESP No 1150, de 08 de abril de 2021" Unidade de Negócio RV, tarifa de água R$ 14,57 e tarifa de esgoto R$ 11,61 por metro cúbico (Comercial/Industrial/Publica sem Contrato)

Sheet Limpeza
B2: Serviço de Limpeza
B3: A | C3: B | D3: C | E3: D
B4: Despesa anual do ITA com serviço de limpeza | C4: m² do laboratório | D4: Duração de projeto em anos | E4: Área total do ITA em m² | F4: Rateio (A*B*C/D)
B5: =Inicial!D51 -> 194427.39 | C5: =Inicial!D13 -> xx | D5: =(Inicial!D16-Inicial!D15)/365 -> #VALUE! | E5: =Inicial!D48 -> 35095.52 | F5: =B5*C5*D5/E5 -> #VALUE!
B7: Obs1: Contrato de Limpeza e Nota de Crédito se encontram depositados na IPR-DI

Sheet Portaria
B2: Serviço de Portaria
B3: Pessoal | D3: Quatidade | E3: Remuneração | F3: Valor
B4: Soldados S2 | C4: Portão Principal | D4: 18 | E4: 1765 | F4: =D4*E4 -> 31770
B5: 3º Sargentos | C5: Comandante da Guarda ao Portão Principal | D5: 1 | E5: 3825 | F5: =D5*E5 -> 3825
B6: 1º Tenentes | C6: Of de Dia | D6: 1 | E6: 8245 | F6: =D6*E6 -> 8245
B7: Total | F7: =SUM(F4:F6) -> 43840
B8: A | D8: B | E8: C
B9: Despesa mensal com vigilância no campus | C9: Duração do projeto em meses | D9: m² do laboratório | E9: Área total do ITA em m² | F9: Rateio (A*B*C/D)
B10: =F7 -> 43840 | C10: =(Inicial!D16-Inicial!D15)/30 -> #VALUE! | D10: =Inicial!D13 -> xx | E10: =Inicial!D48 -> 35095.52 | F10: =B10*C10*D10/E10 -> #VALUE!
B12: Obs1: O DCTA possuii várias portarias conforme mapa Anexo, mas considerou-se que apenas o Portão Principal atende ao ITA
B13: Obs2: A escala de serviço do dia 12 de março de 2018 foi utilizada como base para estimar quantidade de pessoas envolvidas na Portaria
B14: Obs3: Não se considerou pessoal com outras funções como mecânico, eletricista, enfermeiro, etc
B15: Obs4: Cópia da escala e da tabela de soldos estão depositados na IPR-PDI
B16: Obs5: Remuneração segundo Lei 13.954, de 16 de Dezembro de 2019 (DO 17/12/2019 - Ed. 243. Seção 1 Pg. 2)

Sheet Vigilância
B2: Serviço de Vigilância, Segurança e outros
B3: Pessoal | D3: Quatidade | E3: Remuneração | F3: Valor
B4: 1º Sargento | C4: Sargento de dia | D4: 1 | E4: 5483 | F4: =D4*E4 -> 5483
B5: Cabo | C5: Cabo auxiliar | D5: 1 | E5: 2627 | F5: =D5*E5 -> 2627
B6: Soldado S1 | C6: Auxiliar da patrulha | D6: 1 | E6: 1926 | F6: =D6*E6 -> 1926
B7: Soldado S2 | C7: Motorista | D7: 1 | E7: 1765 | F7: =D7*E7 -> 1765
B8: Soldado S2 | C8: Zelador do ITA | D8: 1 | E8: 1765 | F8: =D8*E8 -> 1765
B9: Total mensal | F9: =SUM(F4:F8) -> 13566
B10: A | C10: B | D10: C | E10: D
B11: Despesa mensal com vigilância no Campus | C11: Duração do projeto em meses | D11: m² do laboratório | E11: Área total do ITA em m² | F11: Rateio (A*B*C/D)
B12: =F9 -> 13566 | C12: =(Inicial!D16-Inicial!D15)/30 -> #VALUE! | D12: =Inicial!D13 -> xx | E12: =Inicial!D48 -> 35095.52 | F12: =B12*C12*D12/E12 -> #VALUE!
B14: Obs1: A escala de serviço do dia 12 de março de 2018 foi utilizada como base para estimar quantidade de pessoas envolvidas na Portaria
B15: Obs2: Cópia da escala e da tabela de soldos estão depositados na IPR-PDI
B16: Obs3: Remuneração do Zelador conforme site transparencia.gov.br
B17: Obs4: Remuneração segundo Lei 13.954, de 16 de Dezembro de 2019 (DO 17/12/2019 - Ed. 243. Seção 1 Pg. 2)
